BEGIN:VCALENDAR
VERSION:2.0
PRODID:-//De Novo Entertainment - ECPv4.5.7//NONSGML v1.0//EN
CALSCALE:GREGORIAN
METHOD:PUBLISH
X-WR-CALNAME:De Novo Entertainment
X-ORIGINAL-URL:http://www.denovo.nz
X-WR-CALDESC:Events for De Novo Entertainment
BEGIN:VEVENT
DTSTART;TZID=UTC+0:20171021T190000
DTEND;TZID=UTC+0:20171021T223000
DTSTAMP:20180124T212828
CREATED:20170703T064446Z
LAST-MODIFIED:20170703T064446Z
UID:193-1508612400-1508625000@www.denovo.nz
SUMMARY:Cabaret at the Princes Gate
DESCRIPTION:The historically boutique Princes Gate Hotel’s live entertainment roster has become something of a Rotorua legend. Broadway to Jazz to Vegas to Opera and beyond; our roster of shows is designed to appeal to every music fan. Our signature fusion of cabaret-style entertainment with fine dining is not to be missed. \n
URL:http://www.denovo.nz/event/cabaret-princes-gate-5/
LOCATION:1057 Arawa Street\, Rotorua\, 3010\, New Zealand
ATTACH;FMTTYPE=image/jpeg:http://www.denovo.nz/wp-content/uploads/2017/06/19668267_1711725088852499_267242569_n.jpg
ORGANIZER;CN="Steve%20Holmes":MAILTO:enquiries@denovo.nz
END:VEVENT
END:VCALENDAR